BEGIN:VCALENDAR
VERSION:2.0
PRODID:-//Shelby FFA Alumni &amp; Supporters - ECPv6.15.14//NONSGML v1.0//EN
CALSCALE:GREGORIAN
METHOD:PUBLISH
X-ORIGINAL-URL:https://shelbyffaalumni.org
X-WR-CALDESC:Events for Shelby FFA Alumni &amp; Supporters
REFRESH-INTERVAL;VALUE=DURATION:PT1H
X-Robots-Tag:noindex
X-PUBLISHED-TTL:PT1H
BEGIN:VTIMEZONE
TZID:America/Halifax
BEGIN:DAYLIGHT
TZOFFSETFROM:-0400
TZOFFSETTO:-0300
TZNAME:ADT
DTSTART:20240310T060000
END:DAYLIGHT
BEGIN:STANDARD
TZOFFSETFROM:-0300
TZOFFSETTO:-0400
TZNAME:AST
DTSTART:20241103T050000
END:STANDARD
BEGIN:DAYLIGHT
TZOFFSETFROM:-0400
TZOFFSETTO:-0300
TZNAME:ADT
DTSTART:20250309T060000
END:DAYLIGHT
BEGIN:STANDARD
TZOFFSETFROM:-0300
TZOFFSETTO:-0400
TZNAME:AST
DTSTART:20251102T050000
END:STANDARD
BEGIN:DAYLIGHT
TZOFFSETFROM:-0400
TZOFFSETTO:-0300
TZNAME:ADT
DTSTART:20260308T060000
END:DAYLIGHT
BEGIN:STANDARD
TZOFFSETFROM:-0300
TZOFFSETTO:-0400
TZNAME:AST
DTSTART:20261101T050000
END:STANDARD
BEGIN:DAYLIGHT
TZOFFSETFROM:-0400
TZOFFSETTO:-0300
TZNAME:ADT
DTSTART:20270314T060000
END:DAYLIGHT
BEGIN:STANDARD
TZOFFSETFROM:-0300
TZOFFSETTO:-0400
TZNAME:AST
DTSTART:20271107T050000
END:STANDARD
END:VTIMEZONE
BEGIN:VEVENT
DTSTART;TZID=America/Halifax:20260408T183000
DTEND;TZID=America/Halifax:20260408T193000
DTSTAMP:20260421T164352
CREATED:20260119T190722Z
LAST-MODIFIED:20260119T190722Z
UID:10000024-1775673000-1775676600@shelbyffaalumni.org
SUMMARY:Monthly Meeting
DESCRIPTION:All meetings take place in the Ag room at the High School.
URL:https://shelbyffaalumni.org/event/monthly-meeting-11/
LOCATION:SHS Ag Room\, 1 Whippet Way\, Shelby\, OH\, 44875\, United States
CATEGORIES:Monthly Meeting
END:VEVENT
BEGIN:VEVENT
DTSTART;TZID=America/Halifax:20260311T183000
DTEND;TZID=America/Halifax:20260311T193000
DTSTAMP:20260421T164352
CREATED:20260119T190547Z
LAST-MODIFIED:20260119T190547Z
UID:10000022-1773253800-1773257400@shelbyffaalumni.org
SUMMARY:Monthly Meeting
DESCRIPTION:All meetings take place in the Ag room at the High School.
URL:https://shelbyffaalumni.org/event/monthly-meeting-10/
LOCATION:SHS Ag Room\, 1 Whippet Way\, Shelby\, OH\, 44875\, United States
CATEGORIES:Monthly Meeting
END:VEVENT
BEGIN:VEVENT
DTSTART;TZID=America/Halifax:20260211T183000
DTEND;TZID=America/Halifax:20260211T193000
DTSTAMP:20260421T164352
CREATED:20260119T185715Z
LAST-MODIFIED:20260119T185948Z
UID:10000020-1770834600-1770838200@shelbyffaalumni.org
SUMMARY:Monthly Meeting
DESCRIPTION:All meetings take place in the Ag room at the High School.
URL:https://shelbyffaalumni.org/event/monthly-meeting-8/
LOCATION:SHS Ag Room\, 1 Whippet Way\, Shelby\, OH\, 44875\, United States
CATEGORIES:Monthly Meeting
END:VEVENT
BEGIN:VEVENT
DTSTART;TZID=America/Halifax:20260114T183000
DTEND;TZID=America/Halifax:20260114T193000
DTSTAMP:20260421T164352
CREATED:20260119T190037Z
LAST-MODIFIED:20260119T191950Z
UID:10000021-1768415400-1768419000@shelbyffaalumni.org
SUMMARY:Monthly Meeting
DESCRIPTION:All meetings take place in the Ag room at the High School.
URL:https://shelbyffaalumni.org/event/monthly-meeting-9/
LOCATION:SHS Ag Room\, 1 Whippet Way\, Shelby\, OH\, 44875\, United States
CATEGORIES:Monthly Meeting
END:VEVENT
BEGIN:VEVENT
DTSTART;TZID=America/Halifax:20250709T190000
DTEND;TZID=America/Halifax:20250709T200000
DTSTAMP:20260421T164352
CREATED:20250210T020049Z
LAST-MODIFIED:20250210T020049Z
UID:10000018-1752087600-1752091200@shelbyffaalumni.org
SUMMARY:Monthly Meeting
DESCRIPTION:All meetings take place in the Ag room at the High School.
URL:https://shelbyffaalumni.org/event/monthly-meeting-7/
LOCATION:SHS Ag Room\, 1 Whippet Way\, Shelby\, OH\, 44875\, United States
END:VEVENT
BEGIN:VEVENT
DTSTART;TZID=America/Halifax:20250611T190000
DTEND;TZID=America/Halifax:20250611T200000
DTSTAMP:20260421T164352
CREATED:20250210T015658Z
LAST-MODIFIED:20250210T015658Z
UID:10000017-1749668400-1749672000@shelbyffaalumni.org
SUMMARY:Monthly Meeting
DESCRIPTION:All meetings take place in the Ag room at the High School.
URL:https://shelbyffaalumni.org/event/monthly-meeting-6/
LOCATION:SHS Ag Room\, 1 Whippet Way\, Shelby\, OH\, 44875\, United States
END:VEVENT
BEGIN:VEVENT
DTSTART;TZID=America/Halifax:20250514T190000
DTEND;TZID=America/Halifax:20250514T200000
DTSTAMP:20260421T164352
CREATED:20250210T015516Z
LAST-MODIFIED:20250210T015516Z
UID:10000016-1747249200-1747252800@shelbyffaalumni.org
SUMMARY:Monthly Meeting
DESCRIPTION:All meetings take place in the Ag room at the High School.
URL:https://shelbyffaalumni.org/event/monthly-meeting-5/
LOCATION:SHS Ag Room\, 1 Whippet Way\, Shelby\, OH\, 44875\, United States
END:VEVENT
BEGIN:VEVENT
DTSTART;TZID=America/Halifax:20250409T190000
DTEND;TZID=America/Halifax:20250409T200000
DTSTAMP:20260421T164352
CREATED:20250210T015334Z
LAST-MODIFIED:20250210T015334Z
UID:10000015-1744225200-1744228800@shelbyffaalumni.org
SUMMARY:Monthly Meeting
DESCRIPTION:All meetings take place in the Ag room at the High School.
URL:https://shelbyffaalumni.org/event/monthly-meeting-4/
LOCATION:SHS Ag Room\, 1 Whippet Way\, Shelby\, OH\, 44875\, United States
END:VEVENT
BEGIN:VEVENT
DTSTART;TZID=America/Halifax:20250312T190000
DTEND;TZID=America/Halifax:20250312T200000
DTSTAMP:20260421T164352
CREATED:20250210T014959Z
LAST-MODIFIED:20250210T020128Z
UID:10000014-1741806000-1741809600@shelbyffaalumni.org
SUMMARY:Monthly Meeting
DESCRIPTION:All meetings take place in the Ag room at the High School
URL:https://shelbyffaalumni.org/event/monthly-meeting-3/
LOCATION:SHS Ag Room\, 1 Whippet Way\, Shelby\, OH\, 44875\, United States
END:VEVENT
BEGIN:VEVENT
DTSTART;TZID=America/Halifax:20250212T190000
DTEND;TZID=America/Halifax:20250212T200000
DTSTAMP:20260421T164352
CREATED:20250210T014727Z
LAST-MODIFIED:20250210T014757Z
UID:10000013-1739386800-1739390400@shelbyffaalumni.org
SUMMARY:Monthly Meeting
DESCRIPTION:All meetings take place in the Ag room at the High School.
URL:https://shelbyffaalumni.org/event/monthly-meeting/
LOCATION:SHS Ag Room\, 1 Whippet Way\, Shelby\, OH\, 44875\, United States
END:VEVENT
END:VCALENDAR