BEGIN:VCALENDAR
VERSION:2.0
PRODID:-//Shelby FFA Alumni &amp; Supporters - ECPv6.15.14//NONSGML v1.0//EN
CALSCALE:GREGORIAN
METHOD:PUBLISH
X-ORIGINAL-URL:https://shelbyffaalumni.org
X-WR-CALDESC:Events for Shelby FFA Alumni &amp; Supporters
REFRESH-INTERVAL;VALUE=DURATION:PT1H
X-Robots-Tag:noindex
X-PUBLISHED-TTL:PT1H
BEGIN:VTIMEZONE
TZID:America/Halifax
BEGIN:DAYLIGHT
TZOFFSETFROM:-0400
TZOFFSETTO:-0300
TZNAME:ADT
DTSTART:20220313T060000
END:DAYLIGHT
BEGIN:STANDARD
TZOFFSETFROM:-0300
TZOFFSETTO:-0400
TZNAME:AST
DTSTART:20221106T050000
END:STANDARD
BEGIN:DAYLIGHT
TZOFFSETFROM:-0400
TZOFFSETTO:-0300
TZNAME:ADT
DTSTART:20230312T060000
END:DAYLIGHT
BEGIN:STANDARD
TZOFFSETFROM:-0300
TZOFFSETTO:-0400
TZNAME:AST
DTSTART:20231105T050000
END:STANDARD
BEGIN:DAYLIGHT
TZOFFSETFROM:-0400
TZOFFSETTO:-0300
TZNAME:ADT
DTSTART:20240310T060000
END:DAYLIGHT
BEGIN:STANDARD
TZOFFSETFROM:-0300
TZOFFSETTO:-0400
TZNAME:AST
DTSTART:20241103T050000
END:STANDARD
END:VTIMEZONE
BEGIN:VEVENT
DTSTART;TZID=America/Halifax:20230622T163000
DTEND;TZID=America/Halifax:20230811T220000
DTSTAMP:20260424T050804
CREATED:20230622T200439Z
LAST-MODIFIED:20230811T182252Z
UID:10000010-1687451400-1691791200@shelbyffaalumni.org
SUMMARY:2023 RAFFLE TICKETS
DESCRIPTION:Prizes Include: \n4 General Admission tickets to The Ohio State Fair \n4 Tickets to the Akron Rubber Ducks Baseball \nA weekday rental at Charles Mill Marina \n4 Tickets to the Cincinnati Zoo and Botanical Garden \n4 Tickets and hats to the Dayton Dragons Baseball \nGift Cards to Hempy Water \nSigns From the Fan Cave Shop in Shelby \nWinners will be drawn after the Livestock Auction!
URL:https://shelbyffaalumni.org/event/2023-raffle-tickets/
LOCATION:OH
END:VEVENT
END:VCALENDAR